BEGIN:VCALENDAR
VERSION:2.0
PRODID:-//hacksw/handcal//NONSGML v1.0//EN
CALSCALE:GREGORIAN
BEGIN:VEVENT
SUMMARY:Pferd am Stiel
DTSTART:20260427T133000Z
DTEND:20260427T152100Z
GEO:51.07124;13.75051
LOCATION:Filmtheater Schauburg\, Königsbrücker Straße 55\, 01099 Dresden
DESCRIPTION:
URL;VALUE=URI:http://www.public.kika-dresden.de/termin1600852.html
DTSTAMP:20260426T014536Z
UID:69ed6e4036d08
END:VEVENT
END:VCALENDAR