BEGIN:VCALENDAR
VERSION:2.0
PRODID:-//hacksw/handcal//NONSGML v1.0//EN
CALSCALE:GREGORIAN
BEGIN:VEVENT
SUMMARY:Die reichste Frau der Welt
DTSTART:20260426T093000Z
DTEND:20260426T120100Z
GEO:51.07124;13.75051
LOCATION:Filmtheater Schauburg\, Königsbrücker Straße 55\, 01099 Dresden
DESCRIPTION:
URL;VALUE=URI:http://www.public.kika-dresden.de/termin1600818.html
DTSTAMP:20260425T181131Z
UID:69ed03d35a69c
END:VEVENT
END:VCALENDAR