BEGIN:VCALENDAR
VERSION:2.0
PRODID:-//hacksw/handcal//NONSGML v1.0//EN
CALSCALE:GREGORIAN
BEGIN:VEVENT
SUMMARY:Die drei ??? - Toteninsel
DTSTART:20260426T110000Z
DTEND:20260426T131400Z
GEO:51.07124;13.75051
LOCATION:Filmtheater Schauburg\, Königsbrücker Straße 55\, 01099 Dresden
DESCRIPTION:
URL;VALUE=URI:http://www.public.kika-dresden.de/termin1600815.html
DTSTAMP:20260425T181045Z
UID:69ed03a58ce76
END:VEVENT
END:VCALENDAR