BEGIN:VCALENDAR
VERSION:2.0
PRODID:-//hacksw/handcal//NONSGML v1.0//EN
CALSCALE:GREGORIAN
BEGIN:VEVENT
SUMMARY:Vier minus Drei
DTSTART:20260424T103000Z
DTEND:20260424T130000Z
GEO:51.07124;13.75051
LOCATION:Filmtheater Schauburg\, Königsbrücker Straße 55\, 01099 Dresden
DESCRIPTION:
URL;VALUE=URI:http://www.public.kika-dresden.de/termin1600756.html
DTSTAMP:20260424T061719Z
UID:69eb0aef18735
END:VEVENT
END:VCALENDAR