BEGIN:VCALENDAR
VERSION:2.0
PRODID:-//hacksw/handcal//NONSGML v1.0//EN
CALSCALE:GREGORIAN
BEGIN:VEVENT
SUMMARY:Der Magier im Kreml
DTSTART:20260423T090000Z
DTEND:20260423T115500Z
GEO:51.07124;13.75051
LOCATION:Filmtheater Schauburg\, Königsbrücker Straße 55\, 01099 Dresden
DESCRIPTION:
URL;VALUE=URI:http://www.public.kika-dresden.de/termin1600730.html
DTSTAMP:20260422T171009Z
UID:69e900f10a6c8
END:VEVENT
END:VCALENDAR