BEGIN:VCALENDAR
VERSION:2.0
PRODID:-//hacksw/handcal//NONSGML v1.0//EN
CALSCALE:GREGORIAN
BEGIN:VEVENT
SUMMARY:Michael
DTSTART:20260423T173000Z
DTEND:20260423T201000Z
GEO:51.05182;13.80533
LOCATION:CinemaxX\, Hüblerstr. 8\, 01309 Dresden
DESCRIPTION:
URL;VALUE=URI:http://www.public.kika-dresden.de/termin1600483.html
DTSTAMP:20260425T181809Z
UID:69ed0561b0e08
END:VEVENT
END:VCALENDAR