BEGIN:VCALENDAR
VERSION:2.0
PRODID:-//hacksw/handcal//NONSGML v1.0//EN
CALSCALE:GREGORIAN
BEGIN:VEVENT
SUMMARY:Die Drei ??? - Toteninsel
DTSTART:20260429T130000Z
DTEND:20260429T151400Z
GEO:51.05182;13.80533
LOCATION:CinemaxX\, Hüblerstr. 8\, 01309 Dresden
DESCRIPTION:
URL;VALUE=URI:http://www.public.kika-dresden.de/termin1600403.html
DTSTAMP:20260425T181136Z
UID:69ed03d8584e6
END:VEVENT
END:VCALENDAR