BEGIN:VCALENDAR
VERSION:2.0
PRODID:-//hacksw/handcal//NONSGML v1.0//EN
CALSCALE:GREGORIAN
BEGIN:VEVENT
SUMMARY:Der Teufel trägt Prada 2
DTSTART:20260429T180000Z
DTEND:20260429T202300Z
GEO:51.05182;13.80533
LOCATION:CinemaxX\, Hüblerstr. 8\, 01309 Dresden
DESCRIPTION:
URL;VALUE=URI:http://www.public.kika-dresden.de/termin1600396.html
DTSTAMP:20260425T135049Z
UID:69ecc6b9ba8f3
END:VEVENT
END:VCALENDAR