BEGIN:VCALENDAR
VERSION:2.0
PRODID:-//hacksw/handcal//NONSGML v1.0//EN
CALSCALE:GREGORIAN
BEGIN:VEVENT
SUMMARY:Das Drama - Noch mal auf Anfang
DTSTART:20260426T144500Z
DTEND:20260426T170000Z
GEO:51.05182;13.80533
LOCATION:CinemaxX\, Hüblerstr. 8\, 01309 Dresden
DESCRIPTION:
URL;VALUE=URI:http://www.public.kika-dresden.de/termin1600323.html
DTSTAMP:20260425T225057Z
UID:69ed4551a7512
END:VEVENT
END:VCALENDAR