BEGIN:VCALENDAR
VERSION:2.0
PRODID:-//hacksw/handcal//NONSGML v1.0//EN
CALSCALE:GREGORIAN
BEGIN:VEVENT
SUMMARY:Father Mother Sister Brother
DTSTART:20260422T131500Z
DTEND:20260422T153600Z
GEO:51.07124;13.75051
LOCATION:Filmtheater Schauburg\, Königsbrücker Straße 55\, 01099 Dresden
DESCRIPTION:
URL;VALUE=URI:http://www.public.kika-dresden.de/termin1600303.html
DTSTAMP:20260421T201027Z
UID:69e7d9b3cc596
END:VEVENT
END:VCALENDAR