BEGIN:VCALENDAR
VERSION:2.0
PRODID:-//hacksw/handcal//NONSGML v1.0//EN
CALSCALE:GREGORIAN
BEGIN:VEVENT
SUMMARY:Der Astronaut - Project Hail Mary
DTSTART:20260423T174500Z
DTEND:20260423T205100Z
GEO:51.04384;13.73755
LOCATION:Cineplex Kristallpalast Dresden\, St. Petersburger Straße 24a\, 01069 Dresden
DESCRIPTION:
URL;VALUE=URI:http://www.public.kika-dresden.de/termin1600260.html
DTSTAMP:20260425T203622Z
UID:69ed25c6250dd
END:VEVENT
END:VCALENDAR