BEGIN:VCALENDAR
VERSION:2.0
PRODID:-//hacksw/handcal//NONSGML v1.0//EN
CALSCALE:GREGORIAN
BEGIN:VEVENT
SUMMARY:How to Make a Killing - Todsicheres Erbe
DTSTART:20260424T181500Z
DTEND:20260424T203000Z
GEO:51.04384;13.73755
LOCATION:Cineplex Kristallpalast Dresden\, St. Petersburger Straße 24a\, 01069 Dresden
DESCRIPTION:
URL;VALUE=URI:http://www.public.kika-dresden.de/termin1600248.html
DTSTAMP:20260426T003822Z
UID:69ed5e7e2db22
END:VEVENT
END:VCALENDAR