BEGIN:VCALENDAR
VERSION:2.0
PRODID:-//hacksw/handcal//NONSGML v1.0//EN
CALSCALE:GREGORIAN
BEGIN:VEVENT
SUMMARY:How to Make a Killing - Todsicheres Erbe
DTSTART:20260423T181500Z
DTEND:20260423T203000Z
GEO:51.04384;13.73755
LOCATION:Cineplex Kristallpalast Dresden\, St. Petersburger Straße 24a\, 01069 Dresden
DESCRIPTION:
URL;VALUE=URI:http://www.public.kika-dresden.de/termin1600247.html
DTSTAMP:20260423T085821Z
UID:69e9df2d27e9c
END:VEVENT
END:VCALENDAR