BEGIN:VCALENDAR
VERSION:2.0
PRODID:-//hacksw/handcal//NONSGML v1.0//EN
CALSCALE:GREGORIAN
BEGIN:VEVENT
SUMMARY:Der Super Mario Galaxy Film
DTSTART:20260427T154000Z
DTEND:20260427T174800Z
GEO:51.04384;13.73755
LOCATION:Cineplex Kristallpalast Dresden\, St. Petersburger Straße 24a\, 01069 Dresden
DESCRIPTION:
URL;VALUE=URI:http://www.public.kika-dresden.de/termin1600160.html
DTSTAMP:20260424T090016Z
UID:69eb31201c993
END:VEVENT
END:VCALENDAR