BEGIN:VCALENDAR
VERSION:2.0
PRODID:-//hacksw/handcal//NONSGML v1.0//EN
CALSCALE:GREGORIAN
BEGIN:VEVENT
SUMMARY:Pferd am Stiel
DTSTART:20260425T121500Z
DTEND:20260425T140600Z
GEO:51.04487;13.73697
LOCATION:Rundkino Dresden\, Prager Straße 6\, 01069 Dresden
DESCRIPTION:
URL;VALUE=URI:http://www.public.kika-dresden.de/termin1600135.html
DTSTAMP:20260425T193133Z
UID:69ed169531094
END:VEVENT
END:VCALENDAR