BEGIN:VCALENDAR
VERSION:2.0
PRODID:-//hacksw/handcal//NONSGML v1.0//EN
CALSCALE:GREGORIAN
BEGIN:VEVENT
SUMMARY:Michael
DTSTART:20260423T114500Z
DTEND:20260423T142500Z
GEO:51.04487;13.73697
LOCATION:Rundkino Dresden\, Prager Straße 6\, 01069 Dresden
DESCRIPTION:
URL;VALUE=URI:http://www.public.kika-dresden.de/termin1600022.html
DTSTAMP:20260423T164125Z
UID:69ea4bb58f88b
END:VEVENT
END:VCALENDAR