BEGIN:VCALENDAR
VERSION:2.0
PRODID:-//hacksw/handcal//NONSGML v1.0//EN
CALSCALE:GREGORIAN
BEGIN:VEVENT
SUMMARY:Tom und Jerry: Der verlorene Kompass
DTSTART:20260426T123000Z
DTEND:20260426T143900Z
GEO:51.08285;13.69562
LOCATION:UCI-Kinowelt\, Lommatzscher Straße 82\, Elbepark\, 01139 Dresden-Mickten
DESCRIPTION:
URL;VALUE=URI:http://www.public.kika-dresden.de/termin1599986.html
DTSTAMP:20260425T210815Z
UID:69ed2d3f557a6
END:VEVENT
END:VCALENDAR