BEGIN:VCALENDAR
VERSION:2.0
PRODID:-//hacksw/handcal//NONSGML v1.0//EN
CALSCALE:GREGORIAN
BEGIN:VEVENT
SUMMARY:Lustiges Pettersson und Findus Mitmachkino 2
DTSTART:20260427T114500Z
DTEND:20260427T131500Z
GEO:51.08285;13.69562
LOCATION:UCI-Kinowelt\, Lommatzscher Straße 82\, Elbepark\, 01139 Dresden-Mickten
DESCRIPTION:
URL;VALUE=URI:http://www.public.kika-dresden.de/termin1599924.html
DTSTAMP:20260423T054331Z
UID:69e9b1834803e
END:VEVENT
END:VCALENDAR