BEGIN:VCALENDAR
VERSION:2.0
PRODID:-//hacksw/handcal//NONSGML v1.0//EN
CALSCALE:GREGORIAN
BEGIN:VEVENT
SUMMARY:Jazzy - Chaos im Regenwald
DTSTART:20260422T114000Z
DTEND:20260422T133700Z
GEO:51.08285;13.69562
LOCATION:UCI-Kinowelt\, Lommatzscher Straße 82\, Elbepark\, 01139 Dresden-Mickten
DESCRIPTION:
URL;VALUE=URI:http://www.public.kika-dresden.de/termin1599905.html
DTSTAMP:20260424T154229Z
UID:69eb8f65d4d99
END:VEVENT
END:VCALENDAR