BEGIN:VCALENDAR
VERSION:2.0
PRODID:-//hacksw/handcal//NONSGML v1.0//EN
CALSCALE:GREGORIAN
BEGIN:VEVENT
SUMMARY:How To Make A Killing - Todsicheres Erbe
DTSTART:20260421T131500Z
DTEND:20260421T153100Z
GEO:51.07124;13.75051
LOCATION:Filmtheater Schauburg\, Königsbrücker Straße 55\, 01099 Dresden
DESCRIPTION:
URL;VALUE=URI:http://www.public.kika-dresden.de/termin1599737.html
DTSTAMP:20260425T203948Z
UID:69ed2694bfb5a
END:VEVENT
END:VCALENDAR