BEGIN:VCALENDAR
VERSION:2.0
PRODID:-//hacksw/handcal//NONSGML v1.0//EN
CALSCALE:GREGORIAN
BEGIN:VEVENT
SUMMARY:Arco - Eine fantastische Reise durch die Zeiten
DTSTART:20260421T140000Z
DTEND:20260421T155900Z
GEO:51.07124;13.75051
LOCATION:Filmtheater Schauburg\, Königsbrücker Straße 55\, 01099 Dresden
DESCRIPTION:
URL;VALUE=URI:http://www.public.kika-dresden.de/termin1599727.html
DTSTAMP:20260423T082625Z
UID:69e9d7b192d23
END:VEVENT
END:VCALENDAR