BEGIN:VCALENDAR
VERSION:2.0
PRODID:-//hacksw/handcal//NONSGML v1.0//EN
CALSCALE:GREGORIAN
BEGIN:VEVENT
SUMMARY:Hoppers
DTSTART:20260421T130000Z
DTEND:20260421T151400Z
GEO:51.07124;13.75051
LOCATION:Filmtheater Schauburg\, Königsbrücker Straße 55\, 01099 Dresden
DESCRIPTION:
URL;VALUE=URI:http://www.public.kika-dresden.de/termin1599716.html
DTSTAMP:20260423T192832Z
UID:69ea72e09f044
END:VEVENT
END:VCALENDAR