BEGIN:VCALENDAR
VERSION:2.0
PRODID:-//hacksw/handcal//NONSGML v1.0//EN
CALSCALE:GREGORIAN
BEGIN:VEVENT
SUMMARY:Wie das Leben manchmal spielt
DTSTART:20260510T110000Z
DTEND:20260510T131300Z
GEO:51.03911;13.80653
LOCATION:Programmkino Ost\, Schandauer Straße 73\, 01277 Dresden-Striesen
DESCRIPTION:
URL;VALUE=URI:http://www.public.kika-dresden.de/termin1599692.html
DTSTAMP:20260421T002357Z
UID:69e6c39dac286
END:VEVENT
END:VCALENDAR