BEGIN:VCALENDAR
VERSION:2.0
PRODID:-//hacksw/handcal//NONSGML v1.0//EN
CALSCALE:GREGORIAN
BEGIN:VEVENT
SUMMARY:Couscous und Geheimnisse
DTSTART:20260510T174500Z
DTEND:20260510T200000Z
GEO:51.03911;13.80653
LOCATION:Programmkino Ost\, Schandauer Straße 73\, 01277 Dresden-Striesen
DESCRIPTION:
URL;VALUE=URI:http://www.public.kika-dresden.de/termin1599689.html
DTSTAMP:20260425T204024Z
UID:69ed26b8459e0
END:VEVENT
END:VCALENDAR