BEGIN:VCALENDAR
VERSION:2.0
PRODID:-//hacksw/handcal//NONSGML v1.0//EN
CALSCALE:GREGORIAN
BEGIN:VEVENT
SUMMARY:Tatis Schützenfest
DTSTART:20260507T160000Z
DTEND:20260507T174600Z
GEO:51.03911;13.80653
LOCATION:Programmkino Ost\, Schandauer Straße 73\, 01277 Dresden-Striesen
DESCRIPTION:
URL;VALUE=URI:http://www.public.kika-dresden.de/termin1599671.html
DTSTAMP:20260425T193133Z
UID:69ed16952f4c3
END:VEVENT
END:VCALENDAR