BEGIN:VCALENDAR
VERSION:2.0
PRODID:-//hacksw/handcal//NONSGML v1.0//EN
CALSCALE:GREGORIAN
BEGIN:VEVENT
SUMMARY:Power To The People: John & Yoko Live In NYC
DTSTART:20260429T173000Z
DTEND:20260429T192100Z
GEO:51.03911;13.80653
LOCATION:Programmkino Ost\, Schandauer Straße 73\, 01277 Dresden-Striesen
DESCRIPTION:
URL;VALUE=URI:http://www.public.kika-dresden.de/termin1599660.html
DTSTAMP:20260422T050403Z
UID:69e856c37e953
END:VEVENT
END:VCALENDAR