BEGIN:VCALENDAR
VERSION:2.0
PRODID:-//hacksw/handcal//NONSGML v1.0//EN
CALSCALE:GREGORIAN
BEGIN:VEVENT
SUMMARY:Die Schatzsuche im Blaumeisental
DTSTART:20260509T133000Z
DTEND:20260509T151700Z
GEO:51.03911;13.80653
LOCATION:Programmkino Ost\, Schandauer Straße 73\, 01277 Dresden-Striesen
DESCRIPTION:
URL;VALUE=URI:http://www.public.kika-dresden.de/termin1599658.html
DTSTAMP:20260423T085737Z
UID:69e9df018ecb0
END:VEVENT
END:VCALENDAR