BEGIN:VCALENDAR
VERSION:2.0
PRODID:-//hacksw/handcal//NONSGML v1.0//EN
CALSCALE:GREGORIAN
BEGIN:VEVENT
SUMMARY:Die Schatzsuche im Blaumeisental
DTSTART:20260429T121000Z
DTEND:20260429T135700Z
GEO:51.03911;13.80653
LOCATION:Programmkino Ost\, Schandauer Straße 73\, 01277 Dresden-Striesen
DESCRIPTION:
URL;VALUE=URI:http://www.public.kika-dresden.de/termin1599657.html
DTSTAMP:20260425T151853Z
UID:69ecdb5de4be5
END:VEVENT
END:VCALENDAR