BEGIN:VCALENDAR
VERSION:2.0
PRODID:-//hacksw/handcal//NONSGML v1.0//EN
CALSCALE:GREGORIAN
BEGIN:VEVENT
SUMMARY:Die reichste Frau der Welt
DTSTART:20260424T131500Z
DTEND:20260424T154600Z
GEO:51.03911;13.80653
LOCATION:Programmkino Ost\, Schandauer Straße 73\, 01277 Dresden-Striesen
DESCRIPTION:
URL;VALUE=URI:http://www.public.kika-dresden.de/termin1599620.html
DTSTAMP:20260424T134108Z
UID:69eb72f4de1ac
END:VEVENT
END:VCALENDAR