BEGIN:VCALENDAR
VERSION:2.0
PRODID:-//hacksw/handcal//NONSGML v1.0//EN
CALSCALE:GREGORIAN
BEGIN:VEVENT
SUMMARY:Calle Málaga - Ein Zuhause in Tanger
DTSTART:20260423T143000Z
DTEND:20260423T165600Z
GEO:51.03911;13.80653
LOCATION:Programmkino Ost\, Schandauer Straße 73\, 01277 Dresden-Striesen
DESCRIPTION:
URL;VALUE=URI:http://www.public.kika-dresden.de/termin1599578.html
DTSTAMP:20260424T130052Z
UID:69eb69844b9bb
END:VEVENT
END:VCALENDAR