BEGIN:VCALENDAR
VERSION:2.0
PRODID:-//hacksw/handcal//NONSGML v1.0//EN
CALSCALE:GREGORIAN
BEGIN:VEVENT
SUMMARY:Paris Murder Mystery
DTSTART:20260429T161500Z
DTEND:20260429T183200Z
GEO:51.03911;13.80653
LOCATION:Programmkino Ost\, Schandauer Straße 73\, 01277 Dresden-Striesen
DESCRIPTION:
URL;VALUE=URI:http://www.public.kika-dresden.de/termin1599575.html
DTSTAMP:20260424T114106Z
UID:69eb56d237706
END:VEVENT
END:VCALENDAR