BEGIN:VCALENDAR
VERSION:2.0
PRODID:-//hacksw/handcal//NONSGML v1.0//EN
CALSCALE:GREGORIAN
BEGIN:VEVENT
SUMMARY:Paris Murder Mystery
DTSTART:20260423T160000Z
DTEND:20260423T181700Z
GEO:51.03911;13.80653
LOCATION:Programmkino Ost\, Schandauer Straße 73\, 01277 Dresden-Striesen
DESCRIPTION:
URL;VALUE=URI:http://www.public.kika-dresden.de/termin1599568.html
DTSTAMP:20260423T192823Z
UID:69ea72d7f300e
END:VEVENT
END:VCALENDAR