BEGIN:VCALENDAR
VERSION:2.0
PRODID:-//hacksw/handcal//NONSGML v1.0//EN
CALSCALE:GREGORIAN
BEGIN:VEVENT
SUMMARY:The History Of Sound
DTSTART:20260421T183000Z
DTEND:20260421T210900Z
GEO:51.03911;13.80653
LOCATION:Programmkino Ost\, Schandauer Straße 73\, 01277 Dresden-Striesen
DESCRIPTION:
URL;VALUE=URI:http://www.public.kika-dresden.de/termin1599556.html
DTSTAMP:20260422T004459Z
UID:69e81a0b44f0b
END:VEVENT
END:VCALENDAR