BEGIN:VCALENDAR
VERSION:2.0
PRODID:-//hacksw/handcal//NONSGML v1.0//EN
CALSCALE:GREGORIAN
BEGIN:VEVENT
SUMMARY:Siri Hustvedt - Dance Around
DTSTART:20260426T111500Z
DTEND:20260426T134000Z
GEO:51.052574;13.721402
LOCATION:Zentralkino\, Kraftwerk Mitte 16\, 01067 Dresden-Mitte
DESCRIPTION:
URL;VALUE=URI:http://www.public.kika-dresden.de/termin1599500.html
DTSTAMP:20260424T075705Z
UID:69eb2251a9f6a
END:VEVENT
END:VCALENDAR