BEGIN:VCALENDAR
VERSION:2.0
PRODID:-//hacksw/handcal//NONSGML v1.0//EN
CALSCALE:GREGORIAN
BEGIN:VEVENT
SUMMARY:Die Reichste Frau Der Welt
DTSTART:20260426T180000Z
DTEND:20260426T203100Z
GEO:51.052574;13.721402
LOCATION:Zentralkino\, Kraftwerk Mitte 16\, 01067 Dresden-Mitte
DESCRIPTION:
URL;VALUE=URI:http://www.public.kika-dresden.de/termin1599485.html
DTSTAMP:20260425T232036Z
UID:69ed4c44b2e0e
END:VEVENT
END:VCALENDAR