BEGIN:VCALENDAR
VERSION:2.0
PRODID:-//hacksw/handcal//NONSGML v1.0//EN
CALSCALE:GREGORIAN
BEGIN:VEVENT
SUMMARY:They Will Kill You
DTSTART:20260420T210000Z
DTEND:20260420T230400Z
GEO:51.07124;13.75051
LOCATION:Filmtheater Schauburg\, Königsbrücker Straße 55\, 01099 Dresden
DESCRIPTION:
URL;VALUE=URI:http://www.public.kika-dresden.de/termin1599401.html
DTSTAMP:20260420T021041Z
UID:69e58b210e655
END:VEVENT
END:VCALENDAR