BEGIN:VCALENDAR
VERSION:2.0
PRODID:-//hacksw/handcal//NONSGML v1.0//EN
CALSCALE:GREGORIAN
BEGIN:VEVENT
SUMMARY:How To Make A Killing - Todsicheres Erbe
DTSTART:20260418T181500Z
DTEND:20260418T203000Z
GEO:51.05182;13.80533
LOCATION:CinemaxX\, Hüblerstr. 8\, 01309 Dresden
DESCRIPTION:
URL;VALUE=URI:http://www.public.kika-dresden.de/termin1599321.html
DTSTAMP:20260421T085039Z
UID:69e73a5f8df8d
END:VEVENT
END:VCALENDAR