BEGIN:VCALENDAR
VERSION:2.0
PRODID:-//hacksw/handcal//NONSGML v1.0//EN
CALSCALE:GREGORIAN
BEGIN:VEVENT
SUMMARY:G.O.A.T. - Bock auf Große Sprünge
DTSTART:20260418T084500Z
GEO:51.05182;13.80533
LOCATION:CinemaxX\, Hüblerstr. 8\, 01309 Dresden
DESCRIPTION:
URL;VALUE=URI:http://www.public.kika-dresden.de/termin1599280.html
DTSTAMP:20260421T164855Z
UID:69e7aa77d13b7
END:VEVENT
END:VCALENDAR