BEGIN:VCALENDAR
VERSION:2.0
PRODID:-//hacksw/handcal//NONSGML v1.0//EN
CALSCALE:GREGORIAN
BEGIN:VEVENT
SUMMARY:Die drei ??? - Toteninsel
DTSTART:20260416T120000Z
DTEND:20260416T141400Z
GEO:51.04384;13.73755
LOCATION:Cineplex Kristallpalast Dresden\, St. Petersburger Straße 24a\, 01069 Dresden
DESCRIPTION:
URL;VALUE=URI:http://www.public.kika-dresden.de/termin1598932.html
DTSTAMP:20260421T085727Z
UID:69e73bf771f08
END:VEVENT
END:VCALENDAR