BEGIN:VCALENDAR
VERSION:2.0
PRODID:-//hacksw/handcal//NONSGML v1.0//EN
CALSCALE:GREGORIAN
BEGIN:VEVENT
SUMMARY:Kill Bill: The Whole Bloody Affair
DTSTART:20260419T151500Z
DTEND:20260419T202000Z
GEO:51.04487;13.73697
LOCATION:Rundkino Dresden\, Prager Straße 6\, 01069 Dresden
DESCRIPTION:
URL;VALUE=URI:http://www.public.kika-dresden.de/termin1598613.html
DTSTAMP:20260421T183210Z
UID:69e7c2aac9b2c
END:VEVENT
END:VCALENDAR