BEGIN:VCALENDAR
VERSION:2.0
PRODID:-//hacksw/handcal//NONSGML v1.0//EN
CALSCALE:GREGORIAN
BEGIN:VEVENT
SUMMARY:Der Astronaut - Project Hail Mary
DTSTART:20260417T140000Z
GEO:51.08285;13.69562
LOCATION:UCI-Kinowelt\, Lommatzscher Straße 82\, Elbepark\, 01139 Dresden-Mickten
DESCRIPTION:
URL;VALUE=URI:http://www.public.kika-dresden.de/termin1598364.html
DTSTAMP:20260420T102630Z
UID:69e5ff569c3a5
END:VEVENT
END:VCALENDAR