BEGIN:VCALENDAR
VERSION:2.0
PRODID:-//hacksw/handcal//NONSGML v1.0//EN
CALSCALE:GREGORIAN
BEGIN:VEVENT
SUMMARY:22 Bahnen
DTSTART:20260414T142000Z
DTEND:20260414T163200Z
GEO:51.08285;13.69562
LOCATION:UCI-Kinowelt\, Lommatzscher Straße 82\, Elbepark\, 01139 Dresden-Mickten
DESCRIPTION:
URL;VALUE=URI:http://www.public.kika-dresden.de/termin1598333.html
DTSTAMP:20260421T040839Z
UID:69e6f84785e92
END:VEVENT
END:VCALENDAR