BEGIN:VCALENDAR
VERSION:2.0
PRODID:-//hacksw/handcal//NONSGML v1.0//EN
CALSCALE:GREGORIAN
BEGIN:VEVENT
SUMMARY:Der Magier im Kreml
DTSTART:20260415T100000Z
DTEND:20260415T125500Z
GEO:51.03911;13.80653
LOCATION:Programmkino Ost\, Schandauer Straße 73\, 01277 Dresden-Striesen
DESCRIPTION:
URL;VALUE=URI:http://www.public.kika-dresden.de/termin1598182.html
DTSTAMP:20260419T123838Z
UID:69e4ccce222b2
END:VEVENT
END:VCALENDAR