BEGIN:VCALENDAR
VERSION:2.0
PRODID:-//hacksw/handcal//NONSGML v1.0//EN
CALSCALE:GREGORIAN
BEGIN:VEVENT
SUMMARY:Vier minus Drei
DTSTART:20260421T161500Z
DTEND:20260421T184500Z
GEO:51.052574;13.721402
LOCATION:Zentralkino\, Kraftwerk Mitte 16\, 01067 Dresden-Mitte
DESCRIPTION:
URL;VALUE=URI:http://www.public.kika-dresden.de/termin1598120.html
DTSTAMP:20260421T082959Z
UID:69e735878662d
END:VEVENT
END:VCALENDAR