BEGIN:VCALENDAR
VERSION:2.0
PRODID:-//hacksw/handcal//NONSGML v1.0//EN
CALSCALE:GREGORIAN
BEGIN:VEVENT
SUMMARY:Denn dieses Leben lebst nur du
DTSTART:20260420T134500Z
DTEND:20260420T153800Z
GEO:51.052574;13.721402
LOCATION:Zentralkino\, Kraftwerk Mitte 16\, 01067 Dresden-Mitte
DESCRIPTION:
URL;VALUE=URI:http://www.public.kika-dresden.de/termin1598110.html
DTSTAMP:20260422T124730Z
UID:69e8c362a0618
END:VEVENT
END:VCALENDAR