BEGIN:VCALENDAR
VERSION:2.0
PRODID:-//hacksw/handcal//NONSGML v1.0//EN
CALSCALE:GREGORIAN
BEGIN:VEVENT
SUMMARY:It's Never Over\, Jeff Buckley
DTSTART:20260422T194500Z
DTEND:20260422T220100Z
GEO:51.06687;13.75428
LOCATION:Thalia\, Görlitzer Str. 6\, 01099 Dresden-Neustadt
DESCRIPTION:
URL;VALUE=URI:http://www.public.kika-dresden.de/termin1598091.html
DTSTAMP:20260420T193156Z
UID:69e67f2c95ced
END:VEVENT
END:VCALENDAR