BEGIN:VCALENDAR
VERSION:2.0
PRODID:-//hacksw/handcal//NONSGML v1.0//EN
CALSCALE:GREGORIAN
BEGIN:VEVENT
SUMMARY:Father Mother Sister Brother (OmdU)
DTSTART:20260421T160000Z
DTEND:20260421T182000Z
GEO:51.06687;13.75428
LOCATION:Thalia\, Görlitzer Str. 6\, 01099 Dresden-Neustadt
DESCRIPTION:
URL;VALUE=URI:http://www.public.kika-dresden.de/termin1598087.html
DTSTAMP:20260421T085137Z
UID:69e73a9982871
END:VEVENT
END:VCALENDAR