BEGIN:VCALENDAR
VERSION:2.0
PRODID:-//hacksw/handcal//NONSGML v1.0//EN
CALSCALE:GREGORIAN
BEGIN:VEVENT
SUMMARY:How To Make A Killing - Todsicheres Erbe
DTSTART:20260412T111500Z
DTEND:20260412T133100Z
GEO:51.07124;13.75051
LOCATION:Filmtheater Schauburg\, Königsbrücker Straße 55\, 01099 Dresden
DESCRIPTION:
URL;VALUE=URI:http://www.public.kika-dresden.de/termin1598055.html
DTSTAMP:20260425T020052Z
UID:69ec2054ec623
END:VEVENT
END:VCALENDAR