BEGIN:VCALENDAR
VERSION:2.0
PRODID:-//hacksw/handcal//NONSGML v1.0//EN
CALSCALE:GREGORIAN
BEGIN:VEVENT
SUMMARY:Tommy Tom - Ein neuer Freund für Tommy Tom
DTSTART:20260411T073000Z
DTEND:20260411T090000Z
GEO:51.07124;13.75051
LOCATION:Filmtheater Schauburg\, Königsbrücker Straße 55\, 01099 Dresden
DESCRIPTION:
URL;VALUE=URI:http://www.public.kika-dresden.de/termin1597988.html
DTSTAMP:20260421T040904Z
UID:69e6f86084d7b
END:VEVENT
END:VCALENDAR