BEGIN:VCALENDAR
VERSION:2.0
PRODID:-//hacksw/handcal//NONSGML v1.0//EN
CALSCALE:GREGORIAN
BEGIN:VEVENT
SUMMARY:Ein Sommer in Italien - WM 1990
DTSTART:20260410T142000Z
DTEND:20260410T162300Z
GEO:51.08285;13.69562
LOCATION:UCI-Kinowelt\, Lommatzscher Straße 82\, Elbepark\, 01139 Dresden-Mickten
DESCRIPTION:
URL;VALUE=URI:http://www.public.kika-dresden.de/termin1597056.html
DTSTAMP:20260420T102533Z
UID:69e5ff1d60f87
END:VEVENT
END:VCALENDAR